BEGIN:VCALENDAR
VERSION:2.0
PRODID:-//Plone.org//NONSGML plone.app.event//EN
X-WR-TIMEZONE:Europe/Berlin
BEGIN:VEVENT
SUMMARY:Peter Madsen & CIA play Silent Movies – The Docks of New York
DTSTART;TZID=Europe/Berlin:20120919T203000
DTSTAMP:20260422T153704Z
UID:e96a42489bb24c6a99489ea8ec63e598@zmi.spielboden.at
CREATED:20120910T122602Z
DESCRIPTION:Josef von Sternberg – Virtuoses Spiel mit Licht und Schatten
LAST-MODIFIED:20210809T123354Z
URL:https://zmi.spielboden.at/Plone/veranstaltungen/2012/09_september/pete
 r-madsen-cia-play-silent-movies-2013-the-docks-of-new-york
END:VEVENT
BEGIN:VTIMEZONE
TZID:Europe/Berlin
X-LIC-LOCATION:Europe/Berlin
BEGIN:DAYLIGHT
DTSTART:20120325T030000
TZNAME:CEST
TZOFFSETFROM:+0100
TZOFFSETTO:+0200
END:DAYLIGHT
END:VTIMEZONE
END:VCALENDAR
