BEGIN:VCALENDAR
VERSION:2.0
PRODID:-//Plone.org//NONSGML plone.app.event//EN
X-WR-TIMEZONE:Europe/Berlin
BEGIN:VEVENT
SUMMARY:netzwerkTanz präsentiert open space
DTSTART;TZID=Europe/Berlin:20120920T193000
DTSTAMP:20260422T153014Z
UID:a05c13cea046432aa33c2d16c7ec890f@zmi.spielboden.at
CREATED:20120910T122408Z
DESCRIPTION:Eine Veranstaltung von netzwerkTanz
LAST-MODIFIED:20210809T124609Z
URL:https://zmi.spielboden.at/Plone/veranstaltungen/2012/09_september/netz
 werktanz-prasentiert-open-space
END:VEVENT
BEGIN:VTIMEZONE
TZID:Europe/Berlin
X-LIC-LOCATION:Europe/Berlin
BEGIN:DAYLIGHT
DTSTART:20120325T030000
TZNAME:CEST
TZOFFSETFROM:+0100
TZOFFSETTO:+0200
END:DAYLIGHT
END:VTIMEZONE
END:VCALENDAR
