BEGIN:VCALENDAR
VERSION:2.0
PRODID:-//Plone.org//NONSGML plone.app.event//EN
X-WR-TIMEZONE:Europe/Berlin
BEGIN:VEVENT
SUMMARY:Nachteulen presents: Trashbar mit Punks Jump Up\, Live At Kalibou 
 Beach\, Wasted Ruffians
DTSTART;TZID=Europe/Berlin:20120914T213000
DTSTAMP:20260422T152915Z
UID:713bfdc57ed846f48fe454a9485c7ffd@zmi.spielboden.at
CREATED:20120910T122444Z
LAST-MODIFIED:20210809T124612Z
URL:https://zmi.spielboden.at/Plone/veranstaltungen/2012/09_september/nach
 teulen-presents-trashbar
END:VEVENT
BEGIN:VTIMEZONE
TZID:Europe/Berlin
X-LIC-LOCATION:Europe/Berlin
BEGIN:DAYLIGHT
DTSTART:20120325T030000
TZNAME:CEST
TZOFFSETFROM:+0100
TZOFFSETTO:+0200
END:DAYLIGHT
END:VTIMEZONE
END:VCALENDAR
