BEGIN:VCALENDAR
VERSION:2.0
PRODID:-//Plone.org//NONSGML plone.app.event//EN
X-WR-TIMEZONE:Europe/Berlin
BEGIN:VEVENT
SUMMARY:Kindertheater Paraplü: Winnie der Bär
DTSTART;TZID=Europe/Berlin:20120929T150000
DTSTAMP:20260422T153028Z
UID:558408057e324b2ab8e5d4404ba6bbf4@zmi.spielboden.at
CREATED:20120910T122428Z
DESCRIPTION:Schauspiel-Mitmachtheater ab 3 Jahren nach den gleichnamigen G
 utenachtgeschichten von Alan Alexander Milnes.
LAST-MODIFIED:20210809T124610Z
URL:https://zmi.spielboden.at/Plone/veranstaltungen/2012/09_september/kind
 ertheater-paraplu-2013-winnie-der-bar
END:VEVENT
BEGIN:VTIMEZONE
TZID:Europe/Berlin
X-LIC-LOCATION:Europe/Berlin
BEGIN:DAYLIGHT
DTSTART:20120325T030000
TZNAME:CEST
TZOFFSETFROM:+0100
TZOFFSETTO:+0200
END:DAYLIGHT
END:VTIMEZONE
END:VCALENDAR
