BEGIN:VCALENDAR
VERSION:2.0
PRODID:-//Plone.org//NONSGML plone.app.event//EN
X-WR-TIMEZONE:Europe/Berlin
BEGIN:VEVENT
SUMMARY:Kasperletheater
DTSTART;TZID=Europe/Berlin:20120915T150000
DTSTAMP:20260422T152635Z
UID:2a6d51cd7b174ad8bc9bb13a18f66d6d@zmi.spielboden.at
CREATED:20120910T122246Z
LAST-MODIFIED:20210809T124559Z
URL:https://zmi.spielboden.at/Plone/veranstaltungen/2012/09_september/kasp
 erletheater
END:VEVENT
BEGIN:VTIMEZONE
TZID:Europe/Berlin
X-LIC-LOCATION:Europe/Berlin
BEGIN:DAYLIGHT
DTSTART:20120325T030000
TZNAME:CEST
TZOFFSETFROM:+0100
TZOFFSETTO:+0200
END:DAYLIGHT
END:VTIMEZONE
END:VCALENDAR
