BEGIN:VCALENDAR
VERSION:2.0
PRODID:-//Plone.org//NONSGML plone.app.event//EN
X-WR-TIMEZONE:Europe/Berlin
BEGIN:VEVENT
SUMMARY:Jazzorchester Vorarlberg: Luna Mondweiß
DTSTART;TZID=Europe/Berlin:20120930T170000
DTSTAMP:20260422T153350Z
UID:217ff1b3f5be4bffb0c4a13f49fb304a@zmi.spielboden.at
CREATED:20120910T122406Z
DESCRIPTION:Ein Musikvermittlungsprogramm des Jazzorchesters Vorarlberg f
 ür die ganze Familie. Erst ab 8 Jahren.
LAST-MODIFIED:20210809T124609Z
URL:https://zmi.spielboden.at/Plone/veranstaltungen/2012/09_september/jazz
 orchester-vorarlberg-2013-luna-mondweis
END:VEVENT
BEGIN:VTIMEZONE
TZID:Europe/Berlin
X-LIC-LOCATION:Europe/Berlin
BEGIN:DAYLIGHT
DTSTART:20120325T030000
TZNAME:CEST
TZOFFSETFROM:+0100
TZOFFSETTO:+0200
END:DAYLIGHT
END:VTIMEZONE
END:VCALENDAR
