BEGIN:VCALENDAR
VERSION:2.0
PRODID:-//Plone.org//NONSGML plone.app.event//EN
X-WR-TIMEZONE:Europe/Berlin
BEGIN:VEVENT
SUMMARY:Jazz& – Heartbeat feat. Helge Andreas Norbakken
DTSTART;TZID=Europe/Berlin:20120922T203000
DTSTAMP:20260424T153310Z
UID:11a2ecf3e797463da6f430503024bb12@zmi.spielboden.at
CREATED:20120910T122938Z
DESCRIPTION:Der norwegische Meistertrommler und Bassist Florian King verbi
 nden afrikanische Rhythmen mit der Magie des Nordens.
LAST-MODIFIED:20210809T123407Z
URL:https://zmi.spielboden.at/Plone/veranstaltungen/2012/09_september/jazz
 -2013-heartbeat-feat-helge-andreas-norbakken
END:VEVENT
BEGIN:VTIMEZONE
TZID:Europe/Berlin
X-LIC-LOCATION:Europe/Berlin
BEGIN:DAYLIGHT
DTSTART:20120325T030000
TZNAME:CEST
TZOFFSETFROM:+0100
TZOFFSETTO:+0200
END:DAYLIGHT
END:VTIMEZONE
END:VCALENDAR
