BEGIN:VCALENDAR
VERSION:2.0
PRODID:-//Plone.org//NONSGML plone.app.event//EN
X-WR-TIMEZONE:Europe/Berlin
BEGIN:VEVENT
SUMMARY:Filme über und von Künstlern – Ai Weiwei: Never sorry
DTSTART;TZID=Europe/Berlin:20120911T203000
DTSTAMP:20260422T153323Z
UID:cdbfeb2d07bb401faefab7f014b4283f@zmi.spielboden.at
CREATED:20120910T122901Z
LAST-MODIFIED:20210809T123405Z
URL:https://zmi.spielboden.at/Plone/veranstaltungen/2012/09_september/film
 e-uber-und-von-kunstlern-2013-ai-weiwei-never-sorry
END:VEVENT
BEGIN:VTIMEZONE
TZID:Europe/Berlin
X-LIC-LOCATION:Europe/Berlin
BEGIN:DAYLIGHT
DTSTART:20120325T030000
TZNAME:CEST
TZOFFSETFROM:+0100
TZOFFSETTO:+0200
END:DAYLIGHT
END:VTIMEZONE
END:VCALENDAR
