BEGIN:VCALENDAR
VERSION:2.0
PRODID:-//Plone.org//NONSGML plone.app.event//EN
X-WR-TIMEZONE:Europe/Berlin
BEGIN:VEVENT
SUMMARY:Neue Spielräume – Work Hard – Play Hard
DTSTART;TZID=Europe/Berlin:20120927T203000
DTSTAMP:20260422T152635Z
UID:13f3ee119d3c460c8f311daabc139e40@zmi.spielboden.at
CREATED:20120910T122859Z
DESCRIPTION:Im Rahmen der Neuen Spielräume – Betrachtungen zur Demokrat
 ischen Welt
LAST-MODIFIED:20210809T123405Z
URL:https://zmi.spielboden.at/Plone/veranstaltungen/2012/09_september/copy
 _of_work-hard-2013-play-hard
END:VEVENT
BEGIN:VTIMEZONE
TZID:Europe/Berlin
X-LIC-LOCATION:Europe/Berlin
BEGIN:DAYLIGHT
DTSTART:20120325T030000
TZNAME:CEST
TZOFFSETFROM:+0100
TZOFFSETTO:+0200
END:DAYLIGHT
END:VTIMEZONE
END:VCALENDAR
