BEGIN:VCALENDAR
VERSION:2.0
PRODID:-//Plone.org//NONSGML plone.app.event//EN
X-WR-TIMEZONE:Europe/Berlin
BEGIN:VEVENT
SUMMARY:Filme über und von Künstlern - Gerhard Richter Painting
DTSTART;TZID=Europe/Berlin:20120926T203000
DTSTAMP:20260422T153512Z
UID:ec5aff18d0a946fba40c1e50e0a5df57@zmi.spielboden.at
CREATED:20120910T122424Z
LAST-MODIFIED:20210809T124610Z
URL:https://zmi.spielboden.at/Plone/veranstaltungen/2012/09_september/copy
 _of_filme-uber-und-von-kunstlern-gerhard-richter-painting
END:VEVENT
BEGIN:VTIMEZONE
TZID:Europe/Berlin
X-LIC-LOCATION:Europe/Berlin
BEGIN:DAYLIGHT
DTSTART:20120325T030000
TZNAME:CEST
TZOFFSETFROM:+0100
TZOFFSETTO:+0200
END:DAYLIGHT
END:VTIMEZONE
END:VCALENDAR
