BEGIN:VCALENDAR
VERSION:2.0
PRODID:-//Plone.org//NONSGML plone.app.event//EN
X-WR-TIMEZONE:Europe/Berlin
BEGIN:VEVENT
SUMMARY:Filme über und von Künstlern – Botero: Geboren in Medellin
DTSTART;TZID=Europe/Berlin:20120928T203000
DTSTAMP:20260422T153558Z
UID:c9038cb8f8b44f0bb3169c2c34340266@zmi.spielboden.at
CREATED:20120910T122906Z
LAST-MODIFIED:20210809T123405Z
URL:https://zmi.spielboden.at/Plone/veranstaltungen/2012/09_september/copy
 _of_filme-uber-und-von-kunstlern-2013-botero-geboren-in-medellin
END:VEVENT
BEGIN:VTIMEZONE
TZID:Europe/Berlin
X-LIC-LOCATION:Europe/Berlin
BEGIN:DAYLIGHT
DTSTART:20120325T030000
TZNAME:CEST
TZOFFSETFROM:+0100
TZOFFSETTO:+0200
END:DAYLIGHT
END:VTIMEZONE
END:VCALENDAR
