BEGIN:VCALENDAR
VERSION:2.0
PRODID:-//Plone.org//NONSGML plone.app.event//EN
X-WR-TIMEZONE:Europe/Berlin
BEGIN:VEVENT
SUMMARY:Clown Pompo: Es lebe der Zirkus
DTSTART;TZID=Europe/Berlin:20120922T150000
DTSTAMP:20260422T153122Z
UID:19f897e42e1144b58ade24c91e06917b@zmi.spielboden.at
CREATED:20120910T122259Z
DESCRIPTION:Clownshow  ab 4 Jahren
LAST-MODIFIED:20210809T124600Z
URL:https://zmi.spielboden.at/Plone/veranstaltungen/2012/09_september/clow
 n-pompo-2013-es-lebe-der-zirkus
END:VEVENT
BEGIN:VTIMEZONE
TZID:Europe/Berlin
X-LIC-LOCATION:Europe/Berlin
BEGIN:DAYLIGHT
DTSTART:20120325T030000
TZNAME:CEST
TZOFFSETFROM:+0100
TZOFFSETTO:+0200
END:DAYLIGHT
END:VTIMEZONE
END:VCALENDAR
