BEGIN:VCALENDAR
VERSION:2.0
PRODID:-//Plone.org//NONSGML plone.app.event//EN
X-WR-TIMEZONE:Europe/Berlin
BEGIN:VEVENT
SUMMARY:Captain’s Dinner mit Andreas Rudigier
DTSTART;TZID=Europe/Berlin:20120918T190000
DTSTAMP:20260422T153029Z
UID:df3002a7be964fc18e39e546a1986e48@zmi.spielboden.at
CREATED:20120910T122415Z
LAST-MODIFIED:20210809T124609Z
URL:https://zmi.spielboden.at/Plone/veranstaltungen/2012/09_september/capt
 ain2019s-dinner-mit-andreas-rudigier
END:VEVENT
BEGIN:VTIMEZONE
TZID:Europe/Berlin
X-LIC-LOCATION:Europe/Berlin
BEGIN:DAYLIGHT
DTSTART:20120325T030000
TZNAME:CEST
TZOFFSETFROM:+0100
TZOFFSETTO:+0200
END:DAYLIGHT
END:VTIMEZONE
END:VCALENDAR
