BEGIN:VCALENDAR
VERSION:2.0
PRODID:-//Plone.org//NONSGML plone.app.event//EN
X-WR-TIMEZONE:Europe/Berlin
BEGIN:VEVENT
SUMMARY:Vinyl Only Club
DTSTART;TZID=Europe/Berlin:20120817T220000
DTSTAMP:20260422T171147Z
UID:b757339c6ced4ce3b9643c8208f30318@zmi.spielboden.at
CREATED:20120910T122649Z
LAST-MODIFIED:20120910T122649Z
URL:https://zmi.spielboden.at/Plone/veranstaltungen/2012/08_august/vinyl-o
 nly-club
END:VEVENT
BEGIN:VTIMEZONE
TZID:Europe/Berlin
X-LIC-LOCATION:Europe/Berlin
BEGIN:DAYLIGHT
DTSTART:20120325T030000
TZNAME:CEST
TZOFFSETFROM:+0100
TZOFFSETTO:+0200
END:DAYLIGHT
END:VTIMEZONE
END:VCALENDAR
