BEGIN:VCALENDAR
VERSION:2.0
PRODID:-//Plone.org//NONSGML plone.app.event//EN
X-WR-TIMEZONE:Europe/Berlin
BEGIN:VEVENT
SUMMARY:Pressekonferenz – Die drei Friseure mit anschl. Video Release Pa
 rty
DTSTART;TZID=Europe/Berlin:20120814T210000
DTSTAMP:20260422T153229Z
UID:a3864a789d3b44a98e10584ff224e281@zmi.spielboden.at
CREATED:20120910T122645Z
LAST-MODIFIED:20210809T123356Z
URL:https://zmi.spielboden.at/Plone/veranstaltungen/2012/08_august/videopr
 asenation-2013-die-drei-frisore
END:VEVENT
BEGIN:VTIMEZONE
TZID:Europe/Berlin
X-LIC-LOCATION:Europe/Berlin
BEGIN:DAYLIGHT
DTSTART:20120325T030000
TZNAME:CEST
TZOFFSETFROM:+0100
TZOFFSETTO:+0200
END:DAYLIGHT
END:VTIMEZONE
END:VCALENDAR
