BEGIN:VCALENDAR
VERSION:2.0
PRODID:-//Plone.org//NONSGML plone.app.event//EN
X-WR-TIMEZONE:Europe/Berlin
BEGIN:VEVENT
SUMMARY:The Las Vegas Drive Thru Wedding Chapel
DTSTART;TZID=Europe/Berlin:20120831T210000
DTSTAMP:20260422T153222Z
UID:d62457fa80ed48b98e8a0b86e9c7ea7a@zmi.spielboden.at
CREATED:20120910T122628Z
LAST-MODIFIED:20210809T123356Z
URL:https://zmi.spielboden.at/Plone/veranstaltungen/2012/08_august/the-las
 -vegas-drive-thru-wedding-chapel
END:VEVENT
BEGIN:VTIMEZONE
TZID:Europe/Berlin
X-LIC-LOCATION:Europe/Berlin
BEGIN:DAYLIGHT
DTSTART:20120325T030000
TZNAME:CEST
TZOFFSETFROM:+0100
TZOFFSETTO:+0200
END:DAYLIGHT
END:VTIMEZONE
END:VCALENDAR
