BEGIN:VCALENDAR
VERSION:2.0
PRODID:-//Plone.org//NONSGML plone.app.event//EN
X-WR-TIMEZONE:Europe/Berlin
BEGIN:VEVENT
SUMMARY:Sonic Cafe mit Aaron
DTSTART;TZID=Europe/Berlin:20120830T210000
DTSTAMP:20260422T184848Z
UID:ca011eb7a70448b78396866f80ab3bf7@zmi.spielboden.at
CREATED:20120910T122627Z
LAST-MODIFIED:20120910T122627Z
URL:https://zmi.spielboden.at/Plone/veranstaltungen/2012/08_august/sonic-c
 afe-mit-aaron
END:VEVENT
BEGIN:VTIMEZONE
TZID:Europe/Berlin
X-LIC-LOCATION:Europe/Berlin
BEGIN:DAYLIGHT
DTSTART:20120325T030000
TZNAME:CEST
TZOFFSETFROM:+0100
TZOFFSETTO:+0200
END:DAYLIGHT
END:VTIMEZONE
END:VCALENDAR
