BEGIN:VCALENDAR
VERSION:2.0
PRODID:-//Plone.org//NONSGML plone.app.event//EN
X-WR-TIMEZONE:Europe/Berlin
BEGIN:VEVENT
SUMMARY:Rockabilly – The Royal Crown Combo (A)\, The Pin Stripes (D)\, F
 abulous Daddy (I)
DTSTART;TZID=Europe/Berlin:20120825T210000
DTSTAMP:20260422T153317Z
UID:82838ab684a34416be6fa1495973aa54@zmi.spielboden.at
CREATED:20120910T122625Z
LAST-MODIFIED:20120910T122625Z
URL:https://zmi.spielboden.at/Plone/veranstaltungen/2012/08_august/rockabi
 lly-2013-the-royal-crown-combo-a-the-pin-stripes-d-fabulous-daddy-i
END:VEVENT
BEGIN:VTIMEZONE
TZID:Europe/Berlin
X-LIC-LOCATION:Europe/Berlin
BEGIN:DAYLIGHT
DTSTART:20120325T030000
TZNAME:CEST
TZOFFSETFROM:+0100
TZOFFSETTO:+0200
END:DAYLIGHT
END:VTIMEZONE
END:VCALENDAR
