BEGIN:VCALENDAR
VERSION:2.0
PRODID:-//Plone.org//NONSGML plone.app.event//EN
X-WR-TIMEZONE:Europe/Berlin
BEGIN:VEVENT
SUMMARY:Oberlippenbartparty Bart IV – SPECIAL Guest HR.Kloos\, Saedi und
  andere
DTSTART;TZID=Europe/Berlin:20120811T210000
DTSTAMP:20260422T153414Z
UID:131542a380d4464d9325a4a4cb09872d@zmi.spielboden.at
CREATED:20120910T122643Z
LAST-MODIFIED:20210809T123356Z
URL:https://zmi.spielboden.at/Plone/veranstaltungen/2012/08_august/oberlip
 penbartparty-bart-iiii-2013-special-guest-hr-kloos-saedi-und-andere
END:VEVENT
BEGIN:VTIMEZONE
TZID:Europe/Berlin
X-LIC-LOCATION:Europe/Berlin
BEGIN:DAYLIGHT
DTSTART:20120325T030000
TZNAME:CEST
TZOFFSETFROM:+0100
TZOFFSETTO:+0200
END:DAYLIGHT
END:VTIMEZONE
END:VCALENDAR
