BEGIN:VCALENDAR
VERSION:2.0
PRODID:-//Plone.org//NONSGML plone.app.event//EN
X-WR-TIMEZONE:Europe/Berlin
BEGIN:VEVENT
SUMMARY:Miss Valentina
DTSTART;TZID=Europe/Berlin:20120823T210000
DTSTAMP:20260422T152702Z
UID:64cf109f55bd410e9b908d1e30f3bc90@zmi.spielboden.at
CREATED:20120910T122450Z
LAST-MODIFIED:20120910T122450Z
URL:https://zmi.spielboden.at/Plone/veranstaltungen/2012/08_august/miss-va
 lentina
END:VEVENT
BEGIN:VTIMEZONE
TZID:Europe/Berlin
X-LIC-LOCATION:Europe/Berlin
BEGIN:DAYLIGHT
DTSTART:20120325T030000
TZNAME:CEST
TZOFFSETFROM:+0100
TZOFFSETTO:+0200
END:DAYLIGHT
END:VTIMEZONE
END:VCALENDAR
