BEGIN:VCALENDAR
VERSION:2.0
PRODID:-//Plone.org//NONSGML plone.app.event//EN
X-WR-TIMEZONE:Europe/Berlin
BEGIN:VEVENT
SUMMARY:I ♥ Disco
DTSTART;TZID=Europe/Berlin:20120824T210000
DTSTAMP:20260422T152529Z
UID:280e602273e04bcdb95245afb6a7a514@zmi.spielboden.at
CREATED:20120910T122450Z
LAST-MODIFIED:20120910T122450Z
URL:https://zmi.spielboden.at/Plone/veranstaltungen/2012/08_august/i-2665-
 disco
END:VEVENT
BEGIN:VTIMEZONE
TZID:Europe/Berlin
X-LIC-LOCATION:Europe/Berlin
BEGIN:DAYLIGHT
DTSTART:20120325T030000
TZNAME:CEST
TZOFFSETFROM:+0100
TZOFFSETTO:+0200
END:DAYLIGHT
END:VTIMEZONE
END:VCALENDAR
