BEGIN:VCALENDAR
VERSION:2.0
PRODID:-//Plone.org//NONSGML plone.app.event//EN
X-WR-TIMEZONE:Europe/Berlin
BEGIN:VEVENT
SUMMARY:Hans Bach präsentiert: Mammuth
DTSTART;TZID=Europe/Berlin:20120829T220000
DTSTAMP:20260422T152712Z
UID:ef59e89ec7d4440c9c405c9406f9856b@zmi.spielboden.at
CREATED:20120910T122625Z
DESCRIPTION:ein Film von Benoît Delépine
LAST-MODIFIED:20210809T123355Z
URL:https://zmi.spielboden.at/Plone/veranstaltungen/2012/08_august/hans-ba
 ch-prasentiert-mammuth
END:VEVENT
BEGIN:VTIMEZONE
TZID:Europe/Berlin
X-LIC-LOCATION:Europe/Berlin
BEGIN:DAYLIGHT
DTSTART:20120325T030000
TZNAME:CEST
TZOFFSETFROM:+0100
TZOFFSETTO:+0200
END:DAYLIGHT
END:VTIMEZONE
END:VCALENDAR
