BEGIN:VCALENDAR
VERSION:2.0
PRODID:-//Plone.org//NONSGML plone.app.event//EN
X-WR-TIMEZONE:Europe/Berlin
BEGIN:VEVENT
SUMMARY:Global Underground Music presented by: Soul Brigada & KOGA
DTSTART;TZID=Europe/Berlin:20120804T220000
DTSTAMP:20260422T153320Z
UID:38b5204fc492434eb625e2ea86c30c5d@zmi.spielboden.at
CREATED:20120910T122636Z
LAST-MODIFIED:20210809T123356Z
URL:https://zmi.spielboden.at/Plone/veranstaltungen/2012/08_august/global-
 underground-music-presented-by-soul-brigada-koga
END:VEVENT
BEGIN:VTIMEZONE
TZID:Europe/Berlin
X-LIC-LOCATION:Europe/Berlin
BEGIN:DAYLIGHT
DTSTART:20120325T030000
TZNAME:CEST
TZOFFSETFROM:+0100
TZOFFSETTO:+0200
END:DAYLIGHT
END:VTIMEZONE
END:VCALENDAR
