BEGIN:VCALENDAR
VERSION:2.0
PRODID:-//Plone.org//NONSGML plone.app.event//EN
X-WR-TIMEZONE:Europe/Berlin
BEGIN:VEVENT
SUMMARY:Black Shampoo + Support: The Kowalski
DTSTART;TZID=Europe/Berlin:20120802T210000
DTSTAMP:20260422T152729Z
UID:7b372bee6669408ca252f5cd0d67a6e0@zmi.spielboden.at
CREATED:20120910T122629Z
LAST-MODIFIED:20210809T123356Z
URL:https://zmi.spielboden.at/Plone/veranstaltungen/2012/08_august/black-s
 hampoo-support-the-kowalski
END:VEVENT
BEGIN:VTIMEZONE
TZID:Europe/Berlin
X-LIC-LOCATION:Europe/Berlin
BEGIN:DAYLIGHT
DTSTART:20120325T030000
TZNAME:CEST
TZOFFSETFROM:+0100
TZOFFSETTO:+0200
END:DAYLIGHT
END:VTIMEZONE
END:VCALENDAR
