BEGIN:VCALENDAR
VERSION:2.0
PRODID:-//Plone.org//NONSGML plone.app.event//EN
X-WR-TIMEZONE:Europe/Berlin
BEGIN:VEVENT
SUMMARY:15 Jahre Surfaholics
DTSTART;TZID=Europe/Berlin:20120803T210000
DTSTAMP:20260422T152905Z
UID:25eeeea9a30649cfb4d54fcd75681c0c@zmi.spielboden.at
CREATED:20120910T122632Z
LAST-MODIFIED:20210809T123356Z
URL:https://zmi.spielboden.at/Plone/veranstaltungen/2012/08_august/15-jahr
 e-surfaholics
END:VEVENT
BEGIN:VTIMEZONE
TZID:Europe/Berlin
X-LIC-LOCATION:Europe/Berlin
BEGIN:DAYLIGHT
DTSTART:20120325T030000
TZNAME:CEST
TZOFFSETFROM:+0100
TZOFFSETTO:+0200
END:DAYLIGHT
END:VTIMEZONE
END:VCALENDAR
