BEGIN:VCALENDAR
VERSION:2.0
PRODID:-//Plone.org//NONSGML plone.app.event//EN
X-WR-TIMEZONE:Europe/Berlin
BEGIN:VEVENT
SUMMARY:”Superbacon frittiert in der Kantine” mit Jacques Turbo (Liebs
 chaften\, Dortmund)
DTSTART;TZID=Europe/Berlin:20120721T220000
DTSTAMP:20260422T153538Z
UID:1ba8fa6f90e5400bafe86ba9000c11a4@zmi.spielboden.at
CREATED:20120910T122317Z
LAST-MODIFIED:20210809T124603Z
URL:https://zmi.spielboden.at/Plone/veranstaltungen/2012/07_juli/superbaco
 n-frittiert-in-der-kantine-2013-jacques-turbo-patrik-furst-alex-schwae-ben
 -boheme
END:VEVENT
BEGIN:VTIMEZONE
TZID:Europe/Berlin
X-LIC-LOCATION:Europe/Berlin
BEGIN:DAYLIGHT
DTSTART:20120325T030000
TZNAME:CEST
TZOFFSETFROM:+0100
TZOFFSETTO:+0200
END:DAYLIGHT
END:VTIMEZONE
END:VCALENDAR
