BEGIN:VCALENDAR
VERSION:2.0
PRODID:-//Plone.org//NONSGML plone.app.event//EN
X-WR-TIMEZONE:Europe/Berlin
BEGIN:VEVENT
SUMMARY:Sound Terrasse
DTSTART;TZID=Europe/Berlin:20120707T210000
DTSTAMP:20260422T152630Z
UID:35fed9006985483d82843fdcb3a0e734@zmi.spielboden.at
CREATED:20120910T122314Z
DESCRIPTION:Line Up: NICO PUSCH\, Activingers\, Fozzy Jegga
LAST-MODIFIED:20210809T124603Z
URL:https://zmi.spielboden.at/Plone/veranstaltungen/2012/07_juli/sound-ter
 rasse
END:VEVENT
BEGIN:VTIMEZONE
TZID:Europe/Berlin
X-LIC-LOCATION:Europe/Berlin
BEGIN:DAYLIGHT
DTSTART:20120325T030000
TZNAME:CEST
TZOFFSETFROM:+0100
TZOFFSETTO:+0200
END:DAYLIGHT
END:VTIMEZONE
END:VCALENDAR
