BEGIN:VCALENDAR
VERSION:2.0
PRODID:-//Plone.org//NONSGML plone.app.event//EN
X-WR-TIMEZONE:Europe/Berlin
BEGIN:VEVENT
SUMMARY:Sommerfrische – Kurt Palm & Thomas Raab
DTSTART;TZID=Europe/Berlin:20120712T203000
DTSTAMP:20260422T153013Z
UID:26e374a4d9954fe487d38d84f2fb9a31@zmi.spielboden.at
CREATED:20120910T122847Z
LAST-MODIFIED:20210809T123404Z
URL:https://zmi.spielboden.at/Plone/veranstaltungen/2012/07_juli/sommerfri
 sche-2013-kurt-palm-thomas-raab
END:VEVENT
BEGIN:VTIMEZONE
TZID:Europe/Berlin
X-LIC-LOCATION:Europe/Berlin
BEGIN:DAYLIGHT
DTSTART:20120325T030000
TZNAME:CEST
TZOFFSETFROM:+0100
TZOFFSETTO:+0200
END:DAYLIGHT
END:VTIMEZONE
END:VCALENDAR
