BEGIN:VCALENDAR
VERSION:2.0
PRODID:-//Plone.org//NONSGML plone.app.event//EN
X-WR-TIMEZONE:Europe/Berlin
BEGIN:VEVENT
SUMMARY:Sommerfrische – Der Dieb von Bagdad
DTSTART;TZID=Europe/Berlin:20120706T220000
DTSTAMP:20260422T153049Z
UID:5ce7af3ba7c545c380fcae499a734ea4@zmi.spielboden.at
CREATED:20120910T123034Z
DESCRIPTION:Peter Madsen & CIA play Silent Movies
LAST-MODIFIED:20210809T123411Z
URL:https://zmi.spielboden.at/Plone/veranstaltungen/2012/07_juli/sommerfri
 sche-2013-der-dieb-von-bagdad
END:VEVENT
BEGIN:VTIMEZONE
TZID:Europe/Berlin
X-LIC-LOCATION:Europe/Berlin
BEGIN:DAYLIGHT
DTSTART:20120325T030000
TZNAME:CEST
TZOFFSETFROM:+0100
TZOFFSETTO:+0200
END:DAYLIGHT
END:VTIMEZONE
END:VCALENDAR
