BEGIN:VCALENDAR
VERSION:2.0
PRODID:-//Plone.org//NONSGML plone.app.event//EN
X-WR-TIMEZONE:Europe/Berlin
BEGIN:VEVENT
SUMMARY:Sommerfrische – Alles Koscher
DTSTART;TZID=Europe/Berlin:20120713T220000
DTSTAMP:20260422T153029Z
UID:5211153bf2de482fad22f443e9091b05@zmi.spielboden.at
CREATED:20120910T122556Z
LAST-MODIFIED:20210809T123354Z
URL:https://zmi.spielboden.at/Plone/veranstaltungen/2012/07_juli/sommerfri
 sche-2013-alles-koscher
END:VEVENT
BEGIN:VTIMEZONE
TZID:Europe/Berlin
X-LIC-LOCATION:Europe/Berlin
BEGIN:DAYLIGHT
DTSTART:20120325T030000
TZNAME:CEST
TZOFFSETFROM:+0100
TZOFFSETTO:+0200
END:DAYLIGHT
END:VTIMEZONE
END:VCALENDAR
