BEGIN:VCALENDAR
VERSION:2.0
PRODID:-//Plone.org//NONSGML plone.app.event//EN
X-WR-TIMEZONE:Europe/Berlin
BEGIN:VEVENT
SUMMARY:Pop & Wave Party
DTSTART;TZID=Europe/Berlin:20120714T210000
DTSTAMP:20260422T170947Z
UID:24092d9ede324cc6a3b0169bcdb32aeb@zmi.spielboden.at
CREATED:20120910T122446Z
LAST-MODIFIED:20120910T122446Z
URL:https://zmi.spielboden.at/Plone/veranstaltungen/2012/07_juli/pop-wave-
 party
END:VEVENT
BEGIN:VTIMEZONE
TZID:Europe/Berlin
X-LIC-LOCATION:Europe/Berlin
BEGIN:DAYLIGHT
DTSTART:20120325T030000
TZNAME:CEST
TZOFFSETFROM:+0100
TZOFFSETTO:+0200
END:DAYLIGHT
END:VTIMEZONE
END:VCALENDAR
