BEGIN:VCALENDAR
VERSION:2.0
PRODID:-//Plone.org//NONSGML plone.app.event//EN
X-WR-TIMEZONE:Europe/Berlin
BEGIN:VEVENT
SUMMARY:Malen nach Zahlen
DTSTART;TZID=Europe/Berlin:20120728T220000
DTSTAMP:20260422T152909Z
UID:c8792b9b59184d34877034db3dd37eca@zmi.spielboden.at
CREATED:20120910T122757Z
LAST-MODIFIED:20120910T122757Z
URL:https://zmi.spielboden.at/Plone/veranstaltungen/2012/07_juli/malen-nac
 h-zahlen
END:VEVENT
BEGIN:VTIMEZONE
TZID:Europe/Berlin
X-LIC-LOCATION:Europe/Berlin
BEGIN:DAYLIGHT
DTSTART:20120325T030000
TZNAME:CEST
TZOFFSETFROM:+0100
TZOFFSETTO:+0200
END:DAYLIGHT
END:VTIMEZONE
END:VCALENDAR
