BEGIN:VCALENDAR
VERSION:2.0
PRODID:-//Plone.org//NONSGML plone.app.event//EN
X-WR-TIMEZONE:Europe/Berlin
BEGIN:VEVENT
SUMMARY:Klub.Kult.Urknall
DTSTART;TZID=Europe/Berlin:20120720T210000
DTSTAMP:20260422T152908Z
UID:b1d001e8861d4645b28070014c007781@zmi.spielboden.at
CREATED:20120910T122316Z
LAST-MODIFIED:20120910T122316Z
URL:https://zmi.spielboden.at/Plone/veranstaltungen/2012/07_juli/klub-kult
 -urknall
END:VEVENT
BEGIN:VTIMEZONE
TZID:Europe/Berlin
X-LIC-LOCATION:Europe/Berlin
BEGIN:DAYLIGHT
DTSTART:20120325T030000
TZNAME:CEST
TZOFFSETFROM:+0100
TZOFFSETTO:+0200
END:DAYLIGHT
END:VTIMEZONE
END:VCALENDAR
