BEGIN:VCALENDAR
VERSION:2.0
PRODID:-//Plone.org//NONSGML plone.app.event//EN
X-WR-TIMEZONE:Europe/Berlin
BEGIN:VEVENT
SUMMARY:Hans Bach präsentiert: Persepolis
DTSTART;TZID=Europe/Berlin:20120725T220000
DTSTAMP:20260422T152917Z
UID:5f089d4401584eb681e3bd0c6b2dde66@zmi.spielboden.at
CREATED:20120910T122619Z
DESCRIPTION:ein Film von Marjane Satrapi und Vincent Paronnaud
LAST-MODIFIED:20210809T123355Z
URL:https://zmi.spielboden.at/Plone/veranstaltungen/2012/07_juli/hans-bach
 -prasentiert-persepolis
END:VEVENT
BEGIN:VTIMEZONE
TZID:Europe/Berlin
X-LIC-LOCATION:Europe/Berlin
BEGIN:DAYLIGHT
DTSTART:20120325T030000
TZNAME:CEST
TZOFFSETFROM:+0100
TZOFFSETTO:+0200
END:DAYLIGHT
END:VTIMEZONE
END:VCALENDAR
