BEGIN:VCALENDAR
VERSION:2.0
PRODID:-//Plone.org//NONSGML plone.app.event//EN
X-WR-TIMEZONE:Europe/Berlin
BEGIN:VEVENT
SUMMARY:Christoph & Lollo
DTSTART;TZID=Europe/Berlin:20120727T210000
DTSTAMP:20260422T170946Z
UID:9025798bae6346339f85f56c7ed203ff@zmi.spielboden.at
CREATED:20120910T122318Z
LAST-MODIFIED:20210809T124603Z
URL:https://zmi.spielboden.at/Plone/veranstaltungen/2012/07_juli/christoph
 -lollo
END:VEVENT
BEGIN:VTIMEZONE
TZID:Europe/Berlin
X-LIC-LOCATION:Europe/Berlin
BEGIN:DAYLIGHT
DTSTART:20120325T030000
TZNAME:CEST
TZOFFSETFROM:+0100
TZOFFSETTO:+0200
END:DAYLIGHT
END:VTIMEZONE
END:VCALENDAR
