BEGIN:VCALENDAR
VERSION:2.0
PRODID:-//Plone.org//NONSGML plone.app.event//EN
X-WR-TIMEZONE:Europe/Berlin
BEGIN:VEVENT
SUMMARY:8. Kulturstammtisch - Netzfreiheit und Urheberschutz
DTSTART;TZID=Europe/Berlin:20120717T200000
DTSTAMP:20260422T153350Z
UID:ce41297d2ee74cd2a57c357a80d1431e@zmi.spielboden.at
CREATED:20120822T145924Z
LAST-MODIFIED:20210809T123411Z
URL:https://zmi.spielboden.at/Plone/veranstaltungen/2012/07_juli/8-kulturs
 tammtisch-netzfreiheit-und-urheberschutz
END:VEVENT
BEGIN:VTIMEZONE
TZID:Europe/Berlin
X-LIC-LOCATION:Europe/Berlin
BEGIN:DAYLIGHT
DTSTART:20120325T030000
TZNAME:CEST
TZOFFSETFROM:+0100
TZOFFSETTO:+0200
END:DAYLIGHT
END:VTIMEZONE
END:VCALENDAR
