BEGIN:VCALENDAR
VERSION:2.0
PRODID:-//Plone.org//NONSGML plone.app.event//EN
X-WR-TIMEZONE:Europe/Berlin
BEGIN:VEVENT
SUMMARY:tanz ist Festival - Präsentation Research\, Performance – James
  Wilton
DTSTART;TZID=Europe/Berlin:20120617T170000
DTSTAMP:20260422T153515Z
UID:de4b84ca667b41de90c4937efda4e74b@zmi.spielboden.at
CREATED:20120910T122426Z
DESCRIPTION:PRÄSENTATION / PERFORMANCE
LAST-MODIFIED:20210809T124610Z
URL:https://zmi.spielboden.at/Plone/veranstaltungen/2012/06_juni/tanz-ist-
 festival-prasentation-research-performance-2013-james-wilton
END:VEVENT
BEGIN:VTIMEZONE
TZID:Europe/Berlin
X-LIC-LOCATION:Europe/Berlin
BEGIN:DAYLIGHT
DTSTART:20120325T030000
TZNAME:CEST
TZOFFSETFROM:+0100
TZOFFSETTO:+0200
END:DAYLIGHT
END:VTIMEZONE
END:VCALENDAR
