BEGIN:VCALENDAR
VERSION:2.0
PRODID:-//Plone.org//NONSGML plone.app.event//EN
X-WR-TIMEZONE:Europe/Berlin
BEGIN:VEVENT
SUMMARY:tanz ist Festival – Liquid Loft / Chris Haring / Michel Blazy 
 – The Perfect Garden
DTSTART;TZID=Europe/Berlin:20120607T203000
DTSTAMP:20260422T154027Z
UID:648aced4a2dc46b9aad3cfff438f8a84@zmi.spielboden.at
CREATED:20120910T122824Z
DESCRIPTION:TANZ / PERFORMANCE / INSTALLATION – Festivalpremiere\n\n
LAST-MODIFIED:20210809T123402Z
URL:https://zmi.spielboden.at/Plone/veranstaltungen/2012/06_juni/tanz-ist-
 festival-2013-the-perfect-garden-2013-liquid-loft-chris-haring-michel-blaz
 y
END:VEVENT
BEGIN:VTIMEZONE
TZID:Europe/Berlin
X-LIC-LOCATION:Europe/Berlin
BEGIN:DAYLIGHT
DTSTART:20120325T030000
TZNAME:CEST
TZOFFSETFROM:+0100
TZOFFSETTO:+0200
END:DAYLIGHT
END:VTIMEZONE
END:VCALENDAR
