BEGIN:VCALENDAR
VERSION:2.0
PRODID:-//Plone.org//NONSGML plone.app.event//EN
X-WR-TIMEZONE:Europe/Berlin
BEGIN:VEVENT
SUMMARY:Sommerfrische – Sabine Gruber & Milena Flasar
DTSTART;TZID=Europe/Berlin:20120629T203000
DTSTAMP:20260422T153229Z
UID:47c584b4ce0d46abbc78d0571bc60218@zmi.spielboden.at
CREATED:20120910T122910Z
LAST-MODIFIED:20210809T123406Z
URL:https://zmi.spielboden.at/Plone/veranstaltungen/2012/06_juni/sommerfri
 sche-2013-sabine-gruber-milena-flasar
END:VEVENT
BEGIN:VTIMEZONE
TZID:Europe/Berlin
X-LIC-LOCATION:Europe/Berlin
BEGIN:DAYLIGHT
DTSTART:20120325T030000
TZNAME:CEST
TZOFFSETFROM:+0100
TZOFFSETTO:+0200
END:DAYLIGHT
END:VTIMEZONE
END:VCALENDAR
