BEGIN:VCALENDAR
VERSION:2.0
PRODID:-//Plone.org//NONSGML plone.app.event//EN
X-WR-TIMEZONE:Europe/Berlin
BEGIN:VEVENT
SUMMARY:Klub.Kult.Urknall
DTSTART;TZID=Europe/Berlin:20120602T210000
DTSTAMP:20260422T152701Z
UID:6cb89afad5bb49ed95b94f61c10bb4e3@zmi.spielboden.at
CREATED:20120910T122618Z
DESCRIPTION:Der fröhliche Wahnsinn
LAST-MODIFIED:20120910T122618Z
URL:https://zmi.spielboden.at/Plone/veranstaltungen/2012/06_juni/klub-kult
 -urknall
END:VEVENT
BEGIN:VTIMEZONE
TZID:Europe/Berlin
X-LIC-LOCATION:Europe/Berlin
BEGIN:DAYLIGHT
DTSTART:20120325T030000
TZNAME:CEST
TZOFFSETFROM:+0100
TZOFFSETTO:+0200
END:DAYLIGHT
END:VTIMEZONE
END:VCALENDAR
