BEGIN:VCALENDAR
VERSION:2.0
PRODID:-//Plone.org//NONSGML plone.app.event//EN
X-WR-TIMEZONE:Europe/Berlin
BEGIN:VEVENT
SUMMARY:Jazzseminar Abschlusskonzert
DTSTART;TZID=Europe/Berlin:20120620T200000
DTSTAMP:20260422T152703Z
UID:9ec1e589f8d5480792a5e0086332d708@zmi.spielboden.at
CREATED:20120910T122313Z
LAST-MODIFIED:20120910T122313Z
URL:https://zmi.spielboden.at/Plone/veranstaltungen/2012/06_juni/jazzsemin
 ar-abschlusskonzert
END:VEVENT
BEGIN:VTIMEZONE
TZID:Europe/Berlin
X-LIC-LOCATION:Europe/Berlin
BEGIN:DAYLIGHT
DTSTART:20120325T030000
TZNAME:CEST
TZOFFSETFROM:+0100
TZOFFSETTO:+0200
END:DAYLIGHT
END:VTIMEZONE
END:VCALENDAR
