BEGIN:VCALENDAR
VERSION:2.0
PRODID:-//Plone.org//NONSGML plone.app.event//EN
X-WR-TIMEZONE:Europe/Berlin
BEGIN:VEVENT
SUMMARY:Diavortrag - Armutsbekämpfung in Nepal - Projektbericht des Voral
 berger Vereins "Chay-Ya Austria"
DTSTART;TZID=Europe/Berlin:20120620T193000
DTSTAMP:20260422T153627Z
UID:f32e967d73774189bbdc6dc2de487cea@zmi.spielboden.at
CREATED:20120910T122837Z
LAST-MODIFIED:20210809T123403Z
URL:https://zmi.spielboden.at/Plone/veranstaltungen/2012/06_juni/diavortra
 g-armutsbekampfung-in-nepal-projektbericht-des-voralberger-vereins-chay-ya
 -austria
END:VEVENT
BEGIN:VTIMEZONE
TZID:Europe/Berlin
X-LIC-LOCATION:Europe/Berlin
BEGIN:DAYLIGHT
DTSTART:20120325T030000
TZNAME:CEST
TZOFFSETFROM:+0100
TZOFFSETTO:+0200
END:DAYLIGHT
END:VTIMEZONE
END:VCALENDAR
