BEGIN:VCALENDAR
VERSION:2.0
PRODID:-//Plone.org//NONSGML plone.app.event//EN
X-WR-TIMEZONE:Europe/Berlin
BEGIN:VEVENT
SUMMARY:tanz ist Festival – Künstlerbegegnung / Vernissage / Dialog –
  Michel Blazy & Chris Haring
DTSTART;TZID=Europe/Berlin:20120605T200000
DTSTAMP:20260422T153626Z
UID:cfacfef090aa45bd99920ee42ae08107@zmi.spielboden.at
CREATED:20120910T122400Z
DESCRIPTION:\n\n
LAST-MODIFIED:20210809T124608Z
URL:https://zmi.spielboden.at/Plone/veranstaltungen/2012/06_juni/copy9_of_
 tanz-ist-festival-2013-the-perfect-garden-2013-liquid-loft-chris-haring-mi
 chel-blazy
END:VEVENT
BEGIN:VTIMEZONE
TZID:Europe/Berlin
X-LIC-LOCATION:Europe/Berlin
BEGIN:DAYLIGHT
DTSTART:20120325T030000
TZNAME:CEST
TZOFFSETFROM:+0100
TZOFFSETTO:+0200
END:DAYLIGHT
END:VTIMEZONE
END:VCALENDAR
