BEGIN:VCALENDAR
VERSION:2.0
PRODID:-//Plone.org//NONSGML plone.app.event//EN
X-WR-TIMEZONE:Europe/Berlin
BEGIN:VEVENT
SUMMARY:tanz ist Festival – James Wilton – Research
DTSTART;TZID=Europe/Berlin:20120615T100000
DTSTAMP:20260422T185356Z
UID:3d8c63be80474114a2f5509400164824@zmi.spielboden.at
CREATED:20120910T122932Z
DESCRIPTION:Research für professionelle Tanzschaffende 
LAST-MODIFIED:20210809T123407Z
URL:https://zmi.spielboden.at/Plone/veranstaltungen/2012/06_juni/copy8_of_
 tanz-ist-festival-2013-the-perfect-garden-2013-liquid-loft-chris-haring-mi
 chel-blazy
END:VEVENT
BEGIN:VTIMEZONE
TZID:Europe/Berlin
X-LIC-LOCATION:Europe/Berlin
BEGIN:DAYLIGHT
DTSTART:20120325T030000
TZNAME:CEST
TZOFFSETFROM:+0100
TZOFFSETTO:+0200
END:DAYLIGHT
END:VTIMEZONE
END:VCALENDAR
