BEGIN:VCALENDAR
VERSION:2.0
PRODID:-//Plone.org//NONSGML plone.app.event//EN
X-WR-TIMEZONE:Europe/Berlin
BEGIN:VEVENT
SUMMARY:tanz ist Festival – Compagnie Skree Wolf / Rudi van der Merwe 
 – Miss en Abyme
DTSTART;TZID=Europe/Berlin:20120614T203000
DTSTAMP:20260422T153627Z
UID:2dd975487d4949508c851153a75d8923@zmi.spielboden.at
CREATED:20120910T122827Z
DESCRIPTION:TANZ / PERFORMANCE – Österreichpremiere
LAST-MODIFIED:20210809T123402Z
URL:https://zmi.spielboden.at/Plone/veranstaltungen/2012/06_juni/copy2_of_
 tanz-ist-festival-2013-the-perfect-garden-2013-liquid-loft-chris-haring-mi
 chel-blazy
END:VEVENT
BEGIN:VTIMEZONE
TZID:Europe/Berlin
X-LIC-LOCATION:Europe/Berlin
BEGIN:DAYLIGHT
DTSTART:20120325T030000
TZNAME:CEST
TZOFFSETFROM:+0100
TZOFFSETTO:+0200
END:DAYLIGHT
END:VTIMEZONE
END:VCALENDAR
