BEGIN:VCALENDAR
VERSION:2.0
PRODID:-//Plone.org//NONSGML plone.app.event//EN
X-WR-TIMEZONE:Europe/Berlin
BEGIN:VEVENT
SUMMARY:Zukunft ohne Hunger – Caritas Benefizkonzert – holstuonarmusig
 bigbandclub + Support: Golden Reef & Point Blank
DTSTART;TZID=Europe/Berlin:20120622T190000
DTSTAMP:20260422T153704Z
UID:3ae0c545e7f24f99bf7a7ae0cc83d89a@zmi.spielboden.at
CREATED:20120910T122253Z
DESCRIPTION:Vermietung
LAST-MODIFIED:20210809T124600Z
URL:https://zmi.spielboden.at/Plone/veranstaltungen/2012/06_juni/benefizko
 nzert-zukunft-ohne-hunger-2013-holstuonarmusigbigbandclub-golden-reef-poin
 t-blank
END:VEVENT
BEGIN:VTIMEZONE
TZID:Europe/Berlin
X-LIC-LOCATION:Europe/Berlin
BEGIN:DAYLIGHT
DTSTART:20120325T030000
TZNAME:CEST
TZOFFSETFROM:+0100
TZOFFSETTO:+0200
END:DAYLIGHT
END:VTIMEZONE
END:VCALENDAR
