BEGIN:VCALENDAR
VERSION:2.0
PRODID:-//Plone.org//NONSGML plone.app.event//EN
X-WR-TIMEZONE:Europe/Berlin
BEGIN:VEVENT
SUMMARY:Alf Poier & die obersteirische Wolfshilfe
DTSTART;TZID=Europe/Berlin:20120601T203000
DTSTAMP:20260422T153121Z
UID:109d0a985cde45f782d4067b8b988efe@zmi.spielboden.at
CREATED:20120910T122327Z
DESCRIPTION:„This isn´t it” - Kabarett & Musik - Das Jubiläumsprogra
 mm zum 15- jährigen Bühnenjubiläum
LAST-MODIFIED:20210809T124604Z
URL:https://zmi.spielboden.at/Plone/veranstaltungen/2012/06_juni/alf-poier
 -die-obersteirische-wolfshilfe
END:VEVENT
BEGIN:VTIMEZONE
TZID:Europe/Berlin
X-LIC-LOCATION:Europe/Berlin
BEGIN:DAYLIGHT
DTSTART:20120325T030000
TZNAME:CEST
TZOFFSETFROM:+0100
TZOFFSETTO:+0200
END:DAYLIGHT
END:VTIMEZONE
END:VCALENDAR
