BEGIN:VCALENDAR
VERSION:2.0
PRODID:-//Plone.org//NONSGML plone.app.event//EN
X-WR-TIMEZONE:Europe/Berlin
BEGIN:VEVENT
SUMMARY:Trilogie „...and Europe will be stunned“ – Mary Koszmary\, M
 ur i wiza & Zamach
DTSTART;TZID=Europe/Berlin:20120619T203000
DTSTAMP:20260422T152920Z
UID:33259edc8bc24a198a7710ed57865d2e@zmi.spielboden.at
CREATED:20120910T122817Z
DESCRIPTION:in Zusammenarbeit mit dem Jüdischen Museum Hohenems
LAST-MODIFIED:20210809T123402Z
URL:https://zmi.spielboden.at/Plone/veranstaltungen/2012/06_juni/201e-and-
 europe-will-be-stunned201c
END:VEVENT
BEGIN:VTIMEZONE
TZID:Europe/Berlin
X-LIC-LOCATION:Europe/Berlin
BEGIN:DAYLIGHT
DTSTART:20120325T030000
TZNAME:CEST
TZOFFSETFROM:+0100
TZOFFSETTO:+0200
END:DAYLIGHT
END:VTIMEZONE
END:VCALENDAR
