BEGIN:VCALENDAR
VERSION:2.0
PRODID:-//Plone.org//NONSGML plone.app.event//EN
X-WR-TIMEZONE:Europe/Berlin
BEGIN:VEVENT
SUMMARY:Woody Allen Filmreihe – Was Sie schon immer über Sex wissen wol
 lten aber bisher nicht zu fragen wagten
DTSTART;TZID=Europe/Berlin:20120508T203000
DTSTAMP:20260422T172613Z
UID:3076233945614f1e983cc53c3e6006b5@zmi.spielboden.at
CREATED:20120910T122744Z
DESCRIPTION:\n
LAST-MODIFIED:20210809T123359Z
URL:https://zmi.spielboden.at/Plone/veranstaltungen/2012/05_mai/woody-alle
 n-filmreihe-2013-was-sie-schon-immer-uber-sex-wissen-wollten-aber-bisher-n
 icht-zu-fragen-wagten
END:VEVENT
BEGIN:VTIMEZONE
TZID:Europe/Berlin
X-LIC-LOCATION:Europe/Berlin
BEGIN:DAYLIGHT
DTSTART:20120325T030000
TZNAME:CEST
TZOFFSETFROM:+0100
TZOFFSETTO:+0200
END:DAYLIGHT
END:VTIMEZONE
END:VCALENDAR
