BEGIN:VCALENDAR
VERSION:2.0
PRODID:-//Plone.org//NONSGML plone.app.event//EN
X-WR-TIMEZONE:Europe/Berlin
BEGIN:VEVENT
SUMMARY:The Mark of Zorro
DTSTART;TZID=Europe/Berlin:20120502T203000
DTSTAMP:20260422T185234Z
UID:42158bbd2219436cac6ccb95527e5b56@zmi.spielboden.at
CREATED:20120910T122947Z
DESCRIPTION:Peter Madsen & CIA play Silent Movies
LAST-MODIFIED:20210809T123408Z
URL:https://zmi.spielboden.at/Plone/veranstaltungen/2012/05_mai/the-mark-o
 f-zorro
END:VEVENT
BEGIN:VTIMEZONE
TZID:Europe/Berlin
X-LIC-LOCATION:Europe/Berlin
BEGIN:DAYLIGHT
DTSTART:20120325T030000
TZNAME:CEST
TZOFFSETFROM:+0100
TZOFFSETTO:+0200
END:DAYLIGHT
END:VTIMEZONE
END:VCALENDAR
